BEGIN:VCALENDAR
VERSION:2.0
PRODID:-//Rugby &amp; Northampton Athletic Club - ECPv6.15.20//NONSGML v1.0//EN
CALSCALE:GREGORIAN
METHOD:PUBLISH
X-ORIGINAL-URL:https://randnac.org
X-WR-CALDESC:Events for Rugby &amp; Northampton Athletic Club
REFRESH-INTERVAL;VALUE=DURATION:PT1H
X-Robots-Tag:noindex
X-PUBLISHED-TTL:PT1H
BEGIN:VTIMEZONE
TZID:Europe/London
BEGIN:DAYLIGHT
TZOFFSETFROM:+0000
TZOFFSETTO:+0100
TZNAME:BST
DTSTART:20250330T010000
END:DAYLIGHT
BEGIN:STANDARD
TZOFFSETFROM:+0100
TZOFFSETTO:+0000
TZNAME:GMT
DTSTART:20251026T010000
END:STANDARD
BEGIN:DAYLIGHT
TZOFFSETFROM:+0000
TZOFFSETTO:+0100
TZNAME:BST
DTSTART:20260329T010000
END:DAYLIGHT
BEGIN:STANDARD
TZOFFSETFROM:+0100
TZOFFSETTO:+0000
TZNAME:GMT
DTSTART:20261025T010000
END:STANDARD
BEGIN:DAYLIGHT
TZOFFSETFROM:+0000
TZOFFSETTO:+0100
TZNAME:BST
DTSTART:20270328T010000
END:DAYLIGHT
BEGIN:STANDARD
TZOFFSETFROM:+0100
TZOFFSETTO:+0000
TZNAME:GMT
DTSTART:20271031T010000
END:STANDARD
END:VTIMEZONE
BEGIN:VEVENT
DTSTART;TZID=Europe/London:20260103T100000
DTEND;TZID=Europe/London:20260103T153000
DTSTAMP:20260422T095937
CREATED:20251025T083522Z
LAST-MODIFIED:20251025T083522Z
UID:21727-1767434400-1767454200@randnac.org
SUMMARY:Northamptonshire Cross Country Championship
DESCRIPTION:Full Details here: \nNAA Cross Country Championship – Sat 3rd January 2026 – Northamptonshire athletics association \nR&N are the hosts this year so we will need lots of help with Course Layout & Marshalling
URL:https://randnac.org/event/northamptonshire-cross-country-championship/
LOCATION:Abington Park Northampton\, Wellingborough Rd\, Northampton\, Northamptonshire\, NN3 3HN\, United Kingdom
CATEGORIES:Events,Fixtures
GEO:52.2498175;-0.8642155
X-APPLE-STRUCTURED-LOCATION;VALUE=URI;X-ADDRESS=Abington Park Northampton Wellingborough Rd Northampton Northamptonshire NN3 3HN United Kingdom;X-APPLE-RADIUS=500;X-TITLE=Wellingborough Rd:geo:-0.8642155,52.2498175
END:VEVENT
END:VCALENDAR