BEGIN:VCALENDAR
VERSION:2.0
PRODID:-//Rugby &amp; Northampton Athletic Club - ECPv6.15.20//NONSGML v1.0//EN
CALSCALE:GREGORIAN
METHOD:PUBLISH
X-ORIGINAL-URL:https://randnac.org
X-WR-CALDESC:Events for Rugby &amp; Northampton Athletic Club
REFRESH-INTERVAL;VALUE=DURATION:PT1H
X-Robots-Tag:noindex
X-PUBLISHED-TTL:PT1H
BEGIN:VTIMEZONE
TZID:Europe/London
BEGIN:DAYLIGHT
TZOFFSETFROM:+0000
TZOFFSETTO:+0100
TZNAME:BST
DTSTART:20230326T010000
END:DAYLIGHT
BEGIN:STANDARD
TZOFFSETFROM:+0100
TZOFFSETTO:+0000
TZNAME:GMT
DTSTART:20231029T010000
END:STANDARD
BEGIN:DAYLIGHT
TZOFFSETFROM:+0000
TZOFFSETTO:+0100
TZNAME:BST
DTSTART:20240331T010000
END:DAYLIGHT
BEGIN:STANDARD
TZOFFSETFROM:+0100
TZOFFSETTO:+0000
TZNAME:GMT
DTSTART:20241027T010000
END:STANDARD
BEGIN:DAYLIGHT
TZOFFSETFROM:+0000
TZOFFSETTO:+0100
TZNAME:BST
DTSTART:20250330T010000
END:DAYLIGHT
BEGIN:STANDARD
TZOFFSETFROM:+0100
TZOFFSETTO:+0000
TZNAME:GMT
DTSTART:20251026T010000
END:STANDARD
END:VTIMEZONE
BEGIN:VEVENT
DTSTART;TZID=Europe/London:20240211T103000
DTEND;TZID=Europe/London:20240211T140000
DTSTAMP:20260425T154110
CREATED:20231013T160015Z
LAST-MODIFIED:20231013T160015Z
UID:17911-1707647400-1707660000@randnac.org
SUMMARY:West Midlands Young Athletes Cross Country League - Race 5
DESCRIPTION:Final Race of the popular league for Young Athletes
URL:https://randnac.org/event/west-midlands-young-athletes-cross-country-league-race-5/
LOCATION:Wolverhampton\, Aldersley Stadium\, Aldersley Road\, Wolverhampton\, West Midlands\, WV6 (NW\, United Kingdom
CATEGORIES:Fixtures
GEO:52.6049424;-2.152773
X-APPLE-STRUCTURED-LOCATION;VALUE=URI;X-ADDRESS=Wolverhampton Aldersley Stadium Aldersley Road Wolverhampton West Midlands WV6 (NW United Kingdom;X-APPLE-RADIUS=500;X-TITLE=Aldersley Road:geo:-2.152773,52.6049424
END:VEVENT
END:VCALENDAR