BEGIN:VCALENDAR
VERSION:2.0
PRODID:-//Rugby &amp; Northampton Athletic Club - ECPv6.15.20//NONSGML v1.0//EN
CALSCALE:GREGORIAN
METHOD:PUBLISH
X-ORIGINAL-URL:https://randnac.org
X-WR-CALDESC:Events for Rugby &amp; Northampton Athletic Club
REFRESH-INTERVAL;VALUE=DURATION:PT1H
X-Robots-Tag:noindex
X-PUBLISHED-TTL:PT1H
BEGIN:VTIMEZONE
TZID:Europe/London
BEGIN:DAYLIGHT
TZOFFSETFROM:+0000
TZOFFSETTO:+0100
TZNAME:BST
DTSTART:20230326T010000
END:DAYLIGHT
BEGIN:STANDARD
TZOFFSETFROM:+0100
TZOFFSETTO:+0000
TZNAME:GMT
DTSTART:20231029T010000
END:STANDARD
BEGIN:DAYLIGHT
TZOFFSETFROM:+0000
TZOFFSETTO:+0100
TZNAME:BST
DTSTART:20240331T010000
END:DAYLIGHT
BEGIN:STANDARD
TZOFFSETFROM:+0100
TZOFFSETTO:+0000
TZNAME:GMT
DTSTART:20241027T010000
END:STANDARD
BEGIN:DAYLIGHT
TZOFFSETFROM:+0000
TZOFFSETTO:+0100
TZNAME:BST
DTSTART:20250330T010000
END:DAYLIGHT
BEGIN:STANDARD
TZOFFSETFROM:+0100
TZOFFSETTO:+0000
TZNAME:GMT
DTSTART:20251026T010000
END:STANDARD
END:VTIMEZONE
BEGIN:VEVENT
DTSTART;TZID=Europe/London:20240210T133000
DTEND;TZID=Europe/London:20240210T143000
DTSTAMP:20260425T154034
CREATED:20231013T185651Z
LAST-MODIFIED:20231013T185651Z
UID:17942-1707571800-1707575400@randnac.org
SUMMARY:Midland Women's Cross Country League\, Div 1 - Race 4
DESCRIPTION:Our premier cross country league for Ladies\, we worked hard last season to maintain our Division 1 status\, let’s make it count this year!
URL:https://randnac.org/event/midland-womens-cross-country-league-div-1-race-4-2/
LOCATION:Burton Dassett Hills Country Park\, Southam\, CV47 2 AB\, United Kingdom
CATEGORIES:Fixtures
GEO:52.1610326;-1.4192743
END:VEVENT
BEGIN:VEVENT
DTSTART;TZID=Europe/London:20240210T143000
DTEND;TZID=Europe/London:20240210T153000
DTSTAMP:20260425T154034
CREATED:20231013T184619Z
LAST-MODIFIED:20231013T184619Z
UID:17934-1707575400-1707579000@randnac.org
SUMMARY:Birmingham League Div 1 - Race 4
DESCRIPTION:Final race of our premier Cross Country League for Senior Men
URL:https://randnac.org/event/birmingham-league-div-1-race-4-2/
LOCATION:Abington Park Northampton\, Wellingborough Rd\, Northampton\, Northamptonshire\, NN3 3HN\, United Kingdom
CATEGORIES:Fixtures
GEO:52.2498175;-0.8642155
X-APPLE-STRUCTURED-LOCATION;VALUE=URI;X-ADDRESS=Abington Park Northampton Wellingborough Rd Northampton Northamptonshire NN3 3HN United Kingdom;X-APPLE-RADIUS=500;X-TITLE=Wellingborough Rd:geo:-0.8642155,52.2498175
END:VEVENT
END:VCALENDAR