BEGIN:VCALENDAR
VERSION:2.0
PRODID:-//Rugby &amp; Northampton Athletic Club - ECPv6.15.20//NONSGML v1.0//EN
CALSCALE:GREGORIAN
METHOD:PUBLISH
X-WR-CALNAME:Rugby &amp; Northampton Athletic Club
X-ORIGINAL-URL:https://randnac.org
X-WR-CALDESC:Events for Rugby &amp; Northampton Athletic Club
REFRESH-INTERVAL;VALUE=DURATION:PT1H
X-Robots-Tag:noindex
X-PUBLISHED-TTL:PT1H
BEGIN:VTIMEZONE
TZID:Europe/London
BEGIN:DAYLIGHT
TZOFFSETFROM:+0000
TZOFFSETTO:+0100
TZNAME:BST
DTSTART:20230326T010000
END:DAYLIGHT
BEGIN:STANDARD
TZOFFSETFROM:+0100
TZOFFSETTO:+0000
TZNAME:GMT
DTSTART:20231029T010000
END:STANDARD
BEGIN:DAYLIGHT
TZOFFSETFROM:+0000
TZOFFSETTO:+0100
TZNAME:BST
DTSTART:20240331T010000
END:DAYLIGHT
BEGIN:STANDARD
TZOFFSETFROM:+0100
TZOFFSETTO:+0000
TZNAME:GMT
DTSTART:20241027T010000
END:STANDARD
BEGIN:DAYLIGHT
TZOFFSETFROM:+0000
TZOFFSETTO:+0100
TZNAME:BST
DTSTART:20250330T010000
END:DAYLIGHT
BEGIN:STANDARD
TZOFFSETFROM:+0100
TZOFFSETTO:+0000
TZNAME:GMT
DTSTART:20251026T010000
END:STANDARD
END:VTIMEZONE
BEGIN:VEVENT
DTSTART;TZID=Europe/London:20240114T103000
DTEND;TZID=Europe/London:20240114T140000
DTSTAMP:20260425T165723
CREATED:20231013T155634Z
LAST-MODIFIED:20231013T155634Z
UID:17909-1705228200-1705240800@randnac.org
SUMMARY:West Midlands Young Athletes League - Race 4
DESCRIPTION:Fourth Race of the Popular Young Athletes Cross Country League
URL:https://randnac.org/event/west-midlands-young-athletes-league-race-4/
LOCATION:The Pingles Stadium\, Avenue Road\, Nuneaton\, Warkwickshire\, CV11 4LX\, United Kingdom
CATEGORIES:Fixtures
GEO:52.5136054;-1.4607353
X-APPLE-STRUCTURED-LOCATION;VALUE=URI;X-ADDRESS=The Pingles Stadium Avenue Road Nuneaton Warkwickshire CV11 4LX United Kingdom;X-APPLE-RADIUS=500;X-TITLE=Avenue Road:geo:-1.4607353,52.5136054
END:VEVENT
BEGIN:VEVENT
DTSTART;TZID=Europe/London:20240114T103000
DTEND;TZID=Europe/London:20240114T143000
DTSTAMP:20260425T165723
CREATED:20231013T163644Z
LAST-MODIFIED:20231013T163913Z
UID:17922-1705228200-1705242600@randnac.org
SUMMARY:3 Counties Cross Country League - Race 4
DESCRIPTION:Popular Cross Country League\, ideal for Recreational Runners
URL:https://randnac.org/event/3-counties-cross-country-league-race-4-2/
LOCATION:Stopsley Park\, Luton\, St Thomas Road\, Luton\, United Kingdom\, LU2 7XP
CATEGORIES:Fixtures
GEO:51.9018146;-0.3985522
X-APPLE-STRUCTURED-LOCATION;VALUE=URI;X-ADDRESS=Stopsley Park Luton St Thomas Road Luton United Kingdom LU2 7XP;X-APPLE-RADIUS=500;X-TITLE=St Thomas Road:geo:-0.3985522,51.9018146
END:VEVENT
END:VCALENDAR