BEGIN:VCALENDAR
VERSION:2.0
PRODID:-//Rugby &amp; Northampton Athletic Club - ECPv6.15.20//NONSGML v1.0//EN
CALSCALE:GREGORIAN
METHOD:PUBLISH
X-ORIGINAL-URL:https://randnac.org
X-WR-CALDESC:Events for Rugby &amp; Northampton Athletic Club
REFRESH-INTERVAL;VALUE=DURATION:PT1H
X-Robots-Tag:noindex
X-PUBLISHED-TTL:PT1H
BEGIN:VTIMEZONE
TZID:Europe/London
BEGIN:DAYLIGHT
TZOFFSETFROM:+0000
TZOFFSETTO:+0100
TZNAME:BST
DTSTART:20220327T010000
END:DAYLIGHT
BEGIN:STANDARD
TZOFFSETFROM:+0100
TZOFFSETTO:+0000
TZNAME:GMT
DTSTART:20221030T010000
END:STANDARD
BEGIN:DAYLIGHT
TZOFFSETFROM:+0000
TZOFFSETTO:+0100
TZNAME:BST
DTSTART:20230326T010000
END:DAYLIGHT
BEGIN:STANDARD
TZOFFSETFROM:+0100
TZOFFSETTO:+0000
TZNAME:GMT
DTSTART:20231029T010000
END:STANDARD
BEGIN:DAYLIGHT
TZOFFSETFROM:+0000
TZOFFSETTO:+0100
TZNAME:BST
DTSTART:20240331T010000
END:DAYLIGHT
BEGIN:STANDARD
TZOFFSETFROM:+0100
TZOFFSETTO:+0000
TZNAME:GMT
DTSTART:20241027T010000
END:STANDARD
END:VTIMEZONE
BEGIN:VEVENT
DTSTART;TZID=Europe/London:20231126T103000
DTEND;TZID=Europe/London:20231126T123000
DTSTAMP:20260425T193130
CREATED:20231013T163210Z
LAST-MODIFIED:20231013T163210Z
UID:17917-1700994600-1701001800@randnac.org
SUMMARY:3 Counties Cross Country League - Race 2
DESCRIPTION:Ideal League for recreational runners to try Cross Country
URL:https://randnac.org/event/3-counties-cross-country-league-race-2-2/
LOCATION:University of Northampton\, Waterside Campus\,\, University Drive\, Northampton\, Northants\, NN1 5PH\, United Kingdom
CATEGORIES:Fixtures
GEO:52.2314854;-0.8851896
X-APPLE-STRUCTURED-LOCATION;VALUE=URI;X-ADDRESS=University of Northampton Waterside Campus University Drive Northampton Northants NN1 5PH United Kingdom;X-APPLE-RADIUS=500;X-TITLE=University Drive:geo:-0.8851896,52.2314854
END:VEVENT
END:VCALENDAR