BEGIN:VCALENDAR
VERSION:2.0
PRODID:-//Rugby &amp; Northampton Athletic Club - ECPv6.15.20//NONSGML v1.0//EN
CALSCALE:GREGORIAN
METHOD:PUBLISH
X-WR-CALNAME:Rugby &amp; Northampton Athletic Club
X-ORIGINAL-URL:https://randnac.org
X-WR-CALDESC:Events for Rugby &amp; Northampton Athletic Club
REFRESH-INTERVAL;VALUE=DURATION:PT1H
X-Robots-Tag:noindex
X-PUBLISHED-TTL:PT1H
BEGIN:VTIMEZONE
TZID:Europe/London
BEGIN:DAYLIGHT
TZOFFSETFROM:+0000
TZOFFSETTO:+0100
TZNAME:BST
DTSTART:20220327T010000
END:DAYLIGHT
BEGIN:STANDARD
TZOFFSETFROM:+0100
TZOFFSETTO:+0000
TZNAME:GMT
DTSTART:20221030T010000
END:STANDARD
BEGIN:DAYLIGHT
TZOFFSETFROM:+0000
TZOFFSETTO:+0100
TZNAME:BST
DTSTART:20230326T010000
END:DAYLIGHT
BEGIN:STANDARD
TZOFFSETFROM:+0100
TZOFFSETTO:+0000
TZNAME:GMT
DTSTART:20231029T010000
END:STANDARD
BEGIN:DAYLIGHT
TZOFFSETFROM:+0000
TZOFFSETTO:+0100
TZNAME:BST
DTSTART:20240331T010000
END:DAYLIGHT
BEGIN:STANDARD
TZOFFSETFROM:+0100
TZOFFSETTO:+0000
TZNAME:GMT
DTSTART:20241027T010000
END:STANDARD
END:VTIMEZONE
BEGIN:VEVENT
DTSTART;TZID=Europe/London:20231029T100000
DTEND;TZID=Europe/London:20231029T120000
DTSTAMP:20260425T204500
CREATED:20231013T161046Z
LAST-MODIFIED:20231013T161046Z
UID:17913-1698573600-1698580800@randnac.org
SUMMARY:3 Counties League - Race 1
DESCRIPTION:Ideal League for recreational athletes to try Cross Country
URL:https://randnac.org/event/3-counties-league-race-1-2/
LOCATION:Irchester Country Park\, Gipsy Ln\,\, Wellingborough\, Northants\, NN29 7DL\, United Kingdom
CATEGORIES:Fixtures
GEO:52.2822958;-0.6661551
X-APPLE-STRUCTURED-LOCATION;VALUE=URI;X-ADDRESS=Irchester Country Park Gipsy Ln Wellingborough Northants NN29 7DL United Kingdom;X-APPLE-RADIUS=500;X-TITLE=Gipsy Ln\,:geo:-0.6661551,52.2822958
END:VEVENT
END:VCALENDAR