BEGIN:VCALENDAR
VERSION:2.0
PRODID:-//Rugby &amp; Northampton Athletic Club - ECPv6.15.20//NONSGML v1.0//EN
CALSCALE:GREGORIAN
METHOD:PUBLISH
X-WR-CALNAME:Rugby &amp; Northampton Athletic Club
X-ORIGINAL-URL:https://randnac.org
X-WR-CALDESC:Events for Rugby &amp; Northampton Athletic Club
REFRESH-INTERVAL;VALUE=DURATION:PT1H
X-Robots-Tag:noindex
X-PUBLISHED-TTL:PT1H
BEGIN:VTIMEZONE
TZID:Europe/London
BEGIN:DAYLIGHT
TZOFFSETFROM:+0000
TZOFFSETTO:+0100
TZNAME:BST
DTSTART:20220327T010000
END:DAYLIGHT
BEGIN:STANDARD
TZOFFSETFROM:+0100
TZOFFSETTO:+0000
TZNAME:GMT
DTSTART:20221030T010000
END:STANDARD
BEGIN:DAYLIGHT
TZOFFSETFROM:+0000
TZOFFSETTO:+0100
TZNAME:BST
DTSTART:20230326T010000
END:DAYLIGHT
BEGIN:STANDARD
TZOFFSETFROM:+0100
TZOFFSETTO:+0000
TZNAME:GMT
DTSTART:20231029T010000
END:STANDARD
BEGIN:DAYLIGHT
TZOFFSETFROM:+0000
TZOFFSETTO:+0100
TZNAME:BST
DTSTART:20240331T010000
END:DAYLIGHT
BEGIN:STANDARD
TZOFFSETFROM:+0100
TZOFFSETTO:+0000
TZNAME:GMT
DTSTART:20241027T010000
END:STANDARD
END:VTIMEZONE
BEGIN:VEVENT
DTSTART;TZID=Europe/London:20231202T133000
DTEND;TZID=Europe/London:20231202T143000
DTSTAMP:20260425T165409
CREATED:20231013T185241Z
LAST-MODIFIED:20231013T185241Z
UID:17938-1701523800-1701527400@randnac.org
SUMMARY:Midland Women's Cross Country League\, Div 1 - Race 2
DESCRIPTION:Our premier cross country league for Ladies\, we worked hard last season to maintain our Division 1 status\, let’s make it count this year!
URL:https://randnac.org/event/midland-womens-cross-country-league-div-1-race-2/
LOCATION:Wolverhampton\, Aldersley Stadium\, Aldersley Road\, Wolverhampton\, West Midlands\, WV6 (NW\, United Kingdom
CATEGORIES:Fixtures
GEO:52.6049424;-2.152773
X-APPLE-STRUCTURED-LOCATION;VALUE=URI;X-ADDRESS=Wolverhampton Aldersley Stadium Aldersley Road Wolverhampton West Midlands WV6 (NW United Kingdom;X-APPLE-RADIUS=500;X-TITLE=Aldersley Road:geo:-2.152773,52.6049424
END:VEVENT
BEGIN:VEVENT
DTSTART;TZID=Europe/London:20231202T143000
DTEND;TZID=Europe/London:20231202T153000
DTSTAMP:20260425T165409
CREATED:20231013T165732Z
LAST-MODIFIED:20231013T165732Z
UID:17930-1701527400-1701531000@randnac.org
SUMMARY:Birmingham League Div 1 - Race 2
DESCRIPTION:2nd Race of our premier competition for Men’s Cross Country
URL:https://randnac.org/event/birmingham-league-div-1-race-2-2/
LOCATION:Wolverhampton\, Aldersley Stadium\, Aldersley Road\, Wolverhampton\, West Midlands\, WV6 (NW\, United Kingdom
CATEGORIES:Fixtures
GEO:52.6049424;-2.152773
X-APPLE-STRUCTURED-LOCATION;VALUE=URI;X-ADDRESS=Wolverhampton Aldersley Stadium Aldersley Road Wolverhampton West Midlands WV6 (NW United Kingdom;X-APPLE-RADIUS=500;X-TITLE=Aldersley Road:geo:-2.152773,52.6049424
END:VEVENT
BEGIN:VEVENT
DTSTART;TZID=Europe/London:20231203T103000
DTEND;TZID=Europe/London:20231203T140000
DTSTAMP:20260425T165409
CREATED:20231013T155227Z
LAST-MODIFIED:20231013T155227Z
UID:17907-1701599400-1701612000@randnac.org
SUMMARY:West Midlands Young Athletes League - Race 3
DESCRIPTION:Third race of the popular Young Athletes Cross Country League
URL:https://randnac.org/event/west-midlands-young-athletes-league-race-3/
LOCATION:Warley Woods Park\, 101 Lightwoods Hill\, Smethwick\, West Midlands\, B67 5ED
CATEGORIES:Fixtures
GEO:52.4697236;-1.9813397
X-APPLE-STRUCTURED-LOCATION;VALUE=URI;X-ADDRESS=Warley Woods Park 101 Lightwoods Hill Smethwick West Midlands B67 5ED;X-APPLE-RADIUS=500;X-TITLE=101 Lightwoods Hill:geo:-1.9813397,52.4697236
END:VEVENT
BEGIN:VEVENT
DTSTART;TZID=Europe/London:20231209T103000
DTEND;TZID=Europe/London:20231209T140000
DTSTAMP:20260425T165409
CREATED:20231030T091139Z
LAST-MODIFIED:20231204T164209Z
UID:18137-1702117800-1702130400@randnac.org
SUMMARY:Kettering Charity Cup - Cancelled
DESCRIPTION:Please Note that this event has been cancelled. \nThe NAA Masters Championship will be rescheduled
URL:https://randnac.org/event/kettering-charity-cup-including-naa-masters-championships/
LOCATION:Wicksteed Park\, Kettering\, Barton Road\, Kettering\, North Northamptonshire\, NN15 6NJ\, United Kingdom
GEO:52.3856786;-0.7087039
X-APPLE-STRUCTURED-LOCATION;VALUE=URI;X-ADDRESS=Wicksteed Park Kettering Barton Road Kettering North Northamptonshire NN15 6NJ United Kingdom;X-APPLE-RADIUS=500;X-TITLE=Barton Road:geo:-0.7087039,52.3856786
END:VEVENT
BEGIN:VEVENT
DTSTART;TZID=Europe/London:20231217T103000
DTEND;TZID=Europe/London:20231217T143000
DTSTAMP:20260425T165409
CREATED:20231013T163429Z
LAST-MODIFIED:20231013T163831Z
UID:17920-1702809000-1702823400@randnac.org
SUMMARY:3 Counties Cross Country League - Race 3
DESCRIPTION:Popular Cross Country League\, ideal for recreational runners \nOrganised by North Herts Road Runners
URL:https://randnac.org/event/3-counties-cross-country-league-race-3/
LOCATION:Northamptonshire
CATEGORIES:Fixtures
END:VEVENT
END:VCALENDAR