BEGIN:VCALENDAR
VERSION:2.0
PRODID:-//Rugby &amp; Northampton Athletic Club - ECPv6.15.20//NONSGML v1.0//EN
CALSCALE:GREGORIAN
METHOD:PUBLISH
X-WR-CALNAME:Rugby &amp; Northampton Athletic Club
X-ORIGINAL-URL:https://randnac.org
X-WR-CALDESC:Events for Rugby &amp; Northampton Athletic Club
REFRESH-INTERVAL;VALUE=DURATION:PT1H
X-Robots-Tag:noindex
X-PUBLISHED-TTL:PT1H
BEGIN:VTIMEZONE
TZID:Europe/London
BEGIN:DAYLIGHT
TZOFFSETFROM:+0000
TZOFFSETTO:+0100
TZNAME:BST
DTSTART:20240331T010000
END:DAYLIGHT
BEGIN:STANDARD
TZOFFSETFROM:+0100
TZOFFSETTO:+0000
TZNAME:GMT
DTSTART:20241027T010000
END:STANDARD
BEGIN:DAYLIGHT
TZOFFSETFROM:+0000
TZOFFSETTO:+0100
TZNAME:BST
DTSTART:20250330T010000
END:DAYLIGHT
BEGIN:STANDARD
TZOFFSETFROM:+0100
TZOFFSETTO:+0000
TZNAME:GMT
DTSTART:20251026T010000
END:STANDARD
BEGIN:DAYLIGHT
TZOFFSETFROM:+0000
TZOFFSETTO:+0100
TZNAME:BST
DTSTART:20260329T010000
END:DAYLIGHT
BEGIN:STANDARD
TZOFFSETFROM:+0100
TZOFFSETTO:+0000
TZNAME:GMT
DTSTART:20261025T010000
END:STANDARD
BEGIN:DAYLIGHT
TZOFFSETFROM:+0000
TZOFFSETTO:+0100
TZNAME:BST
DTSTART:20270328T010000
END:DAYLIGHT
BEGIN:STANDARD
TZOFFSETFROM:+0100
TZOFFSETTO:+0000
TZNAME:GMT
DTSTART:20271031T010000
END:STANDARD
END:VTIMEZONE
BEGIN:VEVENT
DTSTART;TZID=Europe/London:20260103T100000
DTEND;TZID=Europe/London:20260103T153000
DTSTAMP:20260422T112445
CREATED:20251025T083522Z
LAST-MODIFIED:20251025T083522Z
UID:21727-1767434400-1767454200@randnac.org
SUMMARY:Northamptonshire Cross Country Championship
DESCRIPTION:Full Details here: \nNAA Cross Country Championship – Sat 3rd January 2026 – Northamptonshire athletics association \nR&N are the hosts this year so we will need lots of help with Course Layout & Marshalling
URL:https://randnac.org/event/northamptonshire-cross-country-championship/
LOCATION:Abington Park Northampton\, Wellingborough Rd\, Northampton\, Northamptonshire\, NN3 3HN\, United Kingdom
CATEGORIES:Events,Fixtures
GEO:52.2498175;-0.8642155
X-APPLE-STRUCTURED-LOCATION;VALUE=URI;X-ADDRESS=Abington Park Northampton Wellingborough Rd Northampton Northamptonshire NN3 3HN United Kingdom;X-APPLE-RADIUS=500;X-TITLE=Wellingborough Rd:geo:-0.8642155,52.2498175
END:VEVENT
BEGIN:VEVENT
DTSTART;TZID=Europe/London:20251214T100000
DTEND;TZID=Europe/London:20251214T120000
DTSTAMP:20260422T112445
CREATED:20251004T161135Z
LAST-MODIFIED:20251004T161135Z
UID:21701-1765706400-1765713600@randnac.org
SUMMARY:3 Counties League - Race 3
DESCRIPTION:Popular league for recreational runners
URL:https://randnac.org/event/3-counties-league-race-3/
LOCATION:baldock\, Clothall Rd\, Baldock\, Herts\, SG7 6RD\, United Kingdom
CATEGORIES:Fixtures
GEO:51.9785677;-0.1644126
X-APPLE-STRUCTURED-LOCATION;VALUE=URI;X-ADDRESS=baldock Clothall Rd Baldock Herts SG7 6RD United Kingdom;X-APPLE-RADIUS=500;X-TITLE=Clothall Rd:geo:-0.1644126,51.9785677
END:VEVENT
BEGIN:VEVENT
DTSTART;TZID=Europe/London:20251213T103000
DTEND;TZID=Europe/London:20251213T153000
DTSTAMP:20260422T112445
CREATED:20251004T160743Z
LAST-MODIFIED:20251004T160743Z
UID:21699-1765621800-1765639800@randnac.org
SUMMARY:Warwickshire County AA Cross Country Championships
DESCRIPTION:County Championship for all Age Groups from U13 – Masters. Held in conjunction with Worcs AA
URL:https://randnac.org/event/warwickshire-county-aa-cross-country-championships/
LOCATION:Warley Woods Park\, 101 Lightwoods Hill\, Smethwick\, West Midlands\, B67 5ED
CATEGORIES:Fixtures
GEO:52.4697236;-1.9813397
X-APPLE-STRUCTURED-LOCATION;VALUE=URI;X-ADDRESS=Warley Woods Park 101 Lightwoods Hill Smethwick West Midlands B67 5ED;X-APPLE-RADIUS=500;X-TITLE=101 Lightwoods Hill:geo:-1.9813397,52.4697236
END:VEVENT
BEGIN:VEVENT
DTSTART;TZID=Europe/London:20251207T100000
DTEND;TZID=Europe/London:20251207T140000
DTSTAMP:20260422T112445
CREATED:20251004T160442Z
LAST-MODIFIED:20251004T160442Z
UID:21697-1765101600-1765116000@randnac.org
SUMMARY:WMYAL Cross Country League - Race 3
DESCRIPTION:Our home race in this popular League for U11 – U17. \nWe also need help with marshalling and course set-up
URL:https://randnac.org/event/wmyal-cross-country-league-race-3/
LOCATION:Newbold Revel College\, Main St\, Stretton Under Fosse\, Rugby\, Warwickshire\, CV23 0TH\, United Kingdom
CATEGORIES:Events,Fixtures
GEO:52.4278574;-1.3396972
X-APPLE-STRUCTURED-LOCATION;VALUE=URI;X-ADDRESS=Newbold Revel College Main St Stretton Under Fosse Rugby Warwickshire CV23 0TH United Kingdom;X-APPLE-RADIUS=500;X-TITLE=Main St\, Stretton Under Fosse:geo:-1.3396972,52.4278574
END:VEVENT
BEGIN:VEVENT
DTSTART;TZID=Europe/London:20251206T140000
DTEND;TZID=Europe/London:20251206T160000
DTSTAMP:20260422T112445
CREATED:20251004T155912Z
LAST-MODIFIED:20251004T155912Z
UID:21693-1765029600-1765036800@randnac.org
SUMMARY:Birmingham League Div 1\, Race 2
DESCRIPTION:Our main Cross Country League for U20 & Senior athletes
URL:https://randnac.org/event/birmingham-league-div-1-race-2-4/
LOCATION:Betley Court Farm\, Crewe\, Main Rd\, Betley\, Crewe\, Cheshire\, CW3 9BH\, United Kingdom
CATEGORIES:Fixtures
GEO:53.0291856;-2.3685994
X-APPLE-STRUCTURED-LOCATION;VALUE=URI;X-ADDRESS=Betley Court Farm Crewe Main Rd Betley Crewe Cheshire CW3 9BH United Kingdom;X-APPLE-RADIUS=500;X-TITLE=Main Rd\, Betley:geo:-2.3685994,53.0291856
END:VEVENT
BEGIN:VEVENT
DTSTART;TZID=Europe/London:20251206T130000
DTEND;TZID=Europe/London:20251206T143000
DTSTAMP:20260422T112445
CREATED:20251004T160201Z
LAST-MODIFIED:20251004T160201Z
UID:21695-1765026000-1765031400@randnac.org
SUMMARY:Midland Women's League Div 1\, Race 2
DESCRIPTION:Our main Cross Country League for U20\, Senior & Masters Women
URL:https://randnac.org/event/midland-womens-league-div-1-race-2-2/
LOCATION:Pittville Park\, Evesham Rd\, Cheltenham\, GL52 3AB\, United Kingdom
CATEGORIES:Fixtures
GEO:51.9114691;-2.0692572
X-APPLE-STRUCTURED-LOCATION;VALUE=URI;X-ADDRESS=Pittville Park Evesham Rd Cheltenham GL52 3AB United Kingdom;X-APPLE-RADIUS=500;X-TITLE=Evesham Rd:geo:-2.0692572,51.9114691
END:VEVENT
BEGIN:VEVENT
DTSTART;TZID=Europe/London:20251116T100000
DTEND;TZID=Europe/London:20251116T120000
DTSTAMP:20260422T112445
CREATED:20251004T155232Z
LAST-MODIFIED:20251004T155232Z
UID:21691-1763287200-1763294400@randnac.org
SUMMARY:3 Counties League\, Race 2
DESCRIPTION:Popular League for recreational athletes \nNote the Parking Instructions
URL:https://randnac.org/event/3-counties-league-race-2-2/
LOCATION:Delapre\, Northampton\, Northampton\, NN4 8AW\, United Kingdom
CATEGORIES:Fixtures
GEO:52.2249291;-0.889584
END:VEVENT
BEGIN:VEVENT
DTSTART;TZID=Europe/London:20251115T140000
DTEND;TZID=Europe/London:20251115T153000
DTSTAMP:20260422T112445
CREATED:20251004T154522Z
LAST-MODIFIED:20251004T154522Z
UID:21687-1763215200-1763220600@randnac.org
SUMMARY:Birmingham League Div 1 - Race 1
DESCRIPTION:Our main Cross Country competition for Senior Men\, U20 upwards. \nHeld at the same venue as Midland Women’s League
URL:https://randnac.org/event/birmingham-league-div-1-race-1-5/
LOCATION:Newbold Comyn\, Leamington\, Newbold Terrace East\, Leamington\, Warwickshire\, CV32 4EW\, United Kingdom
CATEGORIES:Fixtures
GEO:52.2893882;-1.5140769
X-APPLE-STRUCTURED-LOCATION;VALUE=URI;X-ADDRESS=Newbold Comyn Leamington Newbold Terrace East Leamington Warwickshire CV32 4EW United Kingdom;X-APPLE-RADIUS=500;X-TITLE=Newbold Terrace East:geo:-1.5140769,52.2893882
END:VEVENT
BEGIN:VEVENT
DTSTART;TZID=Europe/London:20251115T130000
DTEND;TZID=Europe/London:20251115T143000
DTSTAMP:20260422T112445
CREATED:20251004T154833Z
LAST-MODIFIED:20251004T154833Z
UID:21689-1763211600-1763217000@randnac.org
SUMMARY:Midland Women's Cross Country League\, Div 1 - Race 1
DESCRIPTION:Our main Cross Country League for Senior Women\, held at same venue as Men’s Birmingham League
URL:https://randnac.org/event/midland-womens-cross-country-league-div-1-race-1/
LOCATION:Newbold Comyn\, Leamington\, Newbold Terrace East\, Leamington\, Warwickshire\, CV32 4EW\, United Kingdom
CATEGORIES:Fixtures
GEO:52.2893882;-1.5140769
X-APPLE-STRUCTURED-LOCATION;VALUE=URI;X-ADDRESS=Newbold Comyn Leamington Newbold Terrace East Leamington Warwickshire CV32 4EW United Kingdom;X-APPLE-RADIUS=500;X-TITLE=Newbold Terrace East:geo:-1.5140769,52.2893882
END:VEVENT
BEGIN:VEVENT
DTSTART;TZID=Europe/London:20251109T100000
DTEND;TZID=Europe/London:20251109T140000
DTSTAMP:20260422T112445
CREATED:20251004T151144Z
LAST-MODIFIED:20251004T151144Z
UID:21685-1762682400-1762696800@randnac.org
SUMMARY:WMYAL Cross Country League - Race 2
DESCRIPTION:Second Race of the popular League\, Races for U11 – U17
URL:https://randnac.org/event/wmyal-cross-country-league-race-2/
LOCATION:Warley Woods Park\, 101 Lightwoods Hill\, Smethwick\, West Midlands\, B67 5ED
CATEGORIES:Fixtures
GEO:52.4697236;-1.9813397
X-APPLE-STRUCTURED-LOCATION;VALUE=URI;X-ADDRESS=Warley Woods Park 101 Lightwoods Hill Smethwick West Midlands B67 5ED;X-APPLE-RADIUS=500;X-TITLE=101 Lightwoods Hill:geo:-1.9813397,52.4697236
END:VEVENT
BEGIN:VEVENT
DTSTART;TZID=Europe/London:20251101T100000
DTEND;TZID=Europe/London:20251101T160000
DTSTAMP:20260422T112445
CREATED:20251004T150805Z
LAST-MODIFIED:20251004T150805Z
UID:21683-1761991200-1762012800@randnac.org
SUMMARY:ECCA Cross Country Relays
DESCRIPTION:Races for all Age Groups from U13 – Seniors
URL:https://randnac.org/event/ecca-cross-country-relays-3/
LOCATION:Berry Hill\, Mansfield\, Mansfield\, Nottinghamshire\, NG18 4JU\, United Kingdom
CATEGORIES:Fixtures
END:VEVENT
BEGIN:VEVENT
DTSTART;TZID=Europe/London:20251026T100000
DTEND;TZID=Europe/London:20251026T120000
DTSTAMP:20260422T112445
CREATED:20251004T150447Z
LAST-MODIFIED:20251004T150447Z
UID:21681-1761472800-1761480000@randnac.org
SUMMARY:3 Counties Cross Country League
DESCRIPTION:Cross Country League\, ideal for Recreational Athletes
URL:https://randnac.org/event/3-counties-cross-country-league-2/
LOCATION:Irchester Country Park\, Gipsy Ln\,\, Wellingborough\, Northants\, NN29 7DL\, United Kingdom
CATEGORIES:Fixtures
GEO:52.2822958;-0.6661551
X-APPLE-STRUCTURED-LOCATION;VALUE=URI;X-ADDRESS=Irchester Country Park Gipsy Ln Wellingborough Northants NN29 7DL United Kingdom;X-APPLE-RADIUS=500;X-TITLE=Gipsy Ln\,:geo:-0.6661551,52.2822958
END:VEVENT
BEGIN:VEVENT
DTSTART;TZID=Europe/London:20251018T113000
DTEND;TZID=Europe/London:20251018T160000
DTSTAMP:20260422T112445
CREATED:20251004T150048Z
LAST-MODIFIED:20251004T150048Z
UID:21679-1760787000-1760803200@randnac.org
SUMMARY:Midland Cross Country Relays
DESCRIPTION:Races for Seniors and Masters plus a Young Athletes Event
URL:https://randnac.org/event/midland-cross-country-relays-3/
LOCATION:Wolverhampton\, Aldersley Stadium\, Aldersley Road\, Wolverhampton\, West Midlands\, WV6 (NW\, United Kingdom
CATEGORIES:Fixtures
GEO:52.6049424;-2.152773
X-APPLE-STRUCTURED-LOCATION;VALUE=URI;X-ADDRESS=Wolverhampton Aldersley Stadium Aldersley Road Wolverhampton West Midlands WV6 (NW United Kingdom;X-APPLE-RADIUS=500;X-TITLE=Aldersley Road:geo:-2.152773,52.6049424
END:VEVENT
BEGIN:VEVENT
DTSTART;TZID=Europe/London:20251012T100000
DTEND;TZID=Europe/London:20251012T133000
DTSTAMP:20260422T112445
CREATED:20251004T145620Z
LAST-MODIFIED:20251004T145620Z
UID:21677-1760263200-1760275800@randnac.org
SUMMARY:WMYAL Round 1
DESCRIPTION:First Race of popular Young Athletes Cross Country League with races for U11\, U13\, U15 & U17
URL:https://randnac.org/event/wmyal-round-1/
LOCATION:Walsall Arboretum\, Lichfield Street\, Walsall\, WS42BU\, United Kingdom
CATEGORIES:Fixtures
GEO:52.5903992;-1.973857
X-APPLE-STRUCTURED-LOCATION;VALUE=URI;X-ADDRESS=Walsall Arboretum Lichfield Street Walsall WS42BU United Kingdom;X-APPLE-RADIUS=500;X-TITLE=Lichfield Street:geo:-1.973857,52.5903992
END:VEVENT
BEGIN:VEVENT
DTSTART;TZID=Europe/London:20250928T103000
DTEND;TZID=Europe/London:20250928T130000
DTSTAMP:20260422T112445
CREATED:20250612T155240Z
LAST-MODIFIED:20250612T155240Z
UID:21456-1759055400-1759064400@randnac.org
SUMMARY:Rugby 10 Mile Race
DESCRIPTION:The race is now open for Entries. \nIf you cant run we also need help with Marshalling. \nEntry is free for club members\, contact Bryan Acford or Simon Smith.
URL:https://randnac.org/event/rugby-10-mile-race-5/
LOCATION:Barby Cricket Club\, Longdown Lane\, Barby\, Northamptonshire\, CV23 8TR\, United Kingdom
CATEGORIES:Events,Fixtures
GEO:52.3138268;-1.2218258
X-APPLE-STRUCTURED-LOCATION;VALUE=URI;X-ADDRESS=Barby Cricket Club Longdown Lane Barby Northamptonshire CV23 8TR United Kingdom;X-APPLE-RADIUS=500;X-TITLE=Longdown Lane:geo:-1.2218258,52.3138268
END:VEVENT
BEGIN:VEVENT
DTSTART;TZID=Europe/London:20250517T101500
DTEND;TZID=Europe/London:20250517T111500
DTSTAMP:20260422T112445
CREATED:20250106T142149Z
LAST-MODIFIED:20250107T115903Z
UID:21052-1747476900-1747480500@randnac.org
SUMMARY:Ladies Back to Running Course
DESCRIPTION:Ladies ‘Back to Running’ Course starts Saturday 15th March from 1015 – 1115. Cost is £20 for the 9 week course gradually building to run 5k. This is ideal for Ladies who can comfortably run for 10 minutes. Also includes Monday & Wednesday evening Sessions. \nBeginners course 2025 flyer
URL:https://randnac.org/event/ladies-back-to-running-course-2/2025-05-17/
LOCATION:Rugby Athletic Track\, Bruce Wiliams Way\, Rugby\, Warwickshire\, CV22 5LJ\, United Kingdom
ORGANIZER;CN="Kay Shaw":MAILTO:ladiesrunninggroup@gmail.com
GEO:52.3677341;-1.2551566
X-APPLE-STRUCTURED-LOCATION;VALUE=URI;X-ADDRESS=Rugby Athletic Track Bruce Wiliams Way Rugby Warwickshire CV22 5LJ United Kingdom;X-APPLE-RADIUS=500;X-TITLE=Bruce Wiliams Way:geo:-1.2551566,52.3677341
END:VEVENT
BEGIN:VEVENT
DTSTART;TZID=Europe/London:20250517T101500
DTEND;TZID=Europe/London:20250517T111500
DTSTAMP:20260422T112445
CREATED:20250106T142000Z
LAST-MODIFIED:20250107T115944Z
UID:21002-1747476900-1747480500@randnac.org
SUMMARY:Ladies Beginners Course
DESCRIPTION:Our Popular Ladies Beginners Course will start on Saturday 8th February from 1015 – 1115. Cost is £30 for the 15 week course gradually building to run 5k. Also includes Monday & Wednesday evening Sessions. \nFull Details: Beginners course 2025 flyer
URL:https://randnac.org/event/ladies-beginners-course-2/2025-05-17/
LOCATION:Rugby Athletic Track\, Bruce Wiliams Way\, Rugby\, Warwickshire\, CV22 5LJ\, United Kingdom
CATEGORIES:Events,Fixtures
ORGANIZER;CN="Kay Shaw":MAILTO:ladiesrunninggroup@gmail.com
GEO:52.3677341;-1.2551566
X-APPLE-STRUCTURED-LOCATION;VALUE=URI;X-ADDRESS=Rugby Athletic Track Bruce Wiliams Way Rugby Warwickshire CV22 5LJ United Kingdom;X-APPLE-RADIUS=500;X-TITLE=Bruce Wiliams Way:geo:-1.2551566,52.3677341
END:VEVENT
BEGIN:VEVENT
DTSTART;TZID=Europe/London:20250517T100000
DTEND;TZID=Europe/London:20250517T173000
DTSTAMP:20260422T112445
CREATED:20250418T165233Z
LAST-MODIFIED:20250418T165233Z
UID:21337-1747476000-1747503000@randnac.org
SUMMARY:Midland League Div 1 - Round 1
DESCRIPTION:Our highest level of senior Track & Field Competition. Open to U17 age group and above\, including Masters
URL:https://randnac.org/event/midland-league-div-1-round-1-3/
LOCATION:Rugby Athletic Track\, Bruce Wiliams Way\, Rugby\, Warwickshire\, CV22 5LJ\, United Kingdom
CATEGORIES:Events,Fixtures
GEO:52.3677341;-1.2551566
X-APPLE-STRUCTURED-LOCATION;VALUE=URI;X-ADDRESS=Rugby Athletic Track Bruce Wiliams Way Rugby Warwickshire CV22 5LJ United Kingdom;X-APPLE-RADIUS=500;X-TITLE=Bruce Wiliams Way:geo:-1.2551566,52.3677341
END:VEVENT
BEGIN:VEVENT
DTSTART;TZID=Europe/London:20250516T193000
DTEND;TZID=Europe/London:20250516T203000
DTSTAMP:20260422T112445
CREATED:20250418T164944Z
LAST-MODIFIED:20250418T164944Z
UID:21335-1747423800-1747427400@randnac.org
SUMMARY:EMGP Blisworth 5 Mile
DESCRIPTION:2nd race of the EMGP road race series
URL:https://randnac.org/event/emgp-blisworth-5-mile-2/
LOCATION:Blisworth Football Club\, Courteenhall Road\, Blisworth\, Northamptonshire\, United Kingdom
CATEGORIES:Fixtures
GEO:52.1747524;-0.9296242
X-APPLE-STRUCTURED-LOCATION;VALUE=URI;X-ADDRESS=Blisworth Football Club Courteenhall Road Blisworth Northamptonshire United Kingdom;X-APPLE-RADIUS=500;X-TITLE=Courteenhall Road:geo:-0.9296242,52.1747524
END:VEVENT
BEGIN:VEVENT
DTSTART;TZID=Europe/London:20250514T183000
DTEND;TZID=Europe/London:20250514T210000
DTSTAMP:20260422T112445
CREATED:20250418T164710Z
LAST-MODIFIED:20250418T164710Z
UID:21333-1747247400-1747256400@randnac.org
SUMMARY:Midland Veterans League - East Division
DESCRIPTION:Popular evening league for masters of all ages
URL:https://randnac.org/event/midland-veterans-league-east-division-10/
LOCATION:The Pingles Stadium\, Avenue Road\, Nuneaton\, Warkwickshire\, CV11 4LX\, United Kingdom
CATEGORIES:Fixtures
GEO:52.5136054;-1.4607353
X-APPLE-STRUCTURED-LOCATION;VALUE=URI;X-ADDRESS=The Pingles Stadium Avenue Road Nuneaton Warkwickshire CV11 4LX United Kingdom;X-APPLE-RADIUS=500;X-TITLE=Avenue Road:geo:-1.4607353,52.5136054
END:VEVENT
BEGIN:VEVENT
DTSTART;TZID=Europe/London:20250511T103000
DTEND;TZID=Europe/London:20250511T173000
DTSTAMP:20260422T112445
CREATED:20250418T163524Z
LAST-MODIFIED:20250418T163524Z
UID:21329-1746959400-1746984600@randnac.org
SUMMARY:Leicestershire & Rutland AA Track & Field Championships
DESCRIPTION:County Championship for all Age Groups inc U11 & Masters. Eligibility by birth or residence
URL:https://randnac.org/event/leicestershire-rutland-aa-track-field-championships/2025-05-11/
LOCATION:Rockingham Triangle\, Corby\, Northamptonshire\, NN17 2AE\, United Kingdom
CATEGORIES:Fixtures
GEO:52.506094;-0.7050429
END:VEVENT
BEGIN:VEVENT
DTSTART;TZID=Europe/London:20250511T103000
DTEND;TZID=Europe/London:20250511T173000
DTSTAMP:20260422T112445
CREATED:20250418T162822Z
LAST-MODIFIED:20250418T162822Z
UID:21322-1746959400-1746984600@randnac.org
SUMMARY:Northamptonshire AA Track & Field Championship
DESCRIPTION:County Championship for all age groups including U11 & Masters. Qualification by birth or residence
URL:https://randnac.org/event/northamptonshire-aa-track-field-championship/2025-05-11/
LOCATION:Rockingham Triangle\, Corby\, Northamptonshire\, NN17 2AE\, United Kingdom
CATEGORIES:Fixtures
GEO:52.506094;-0.7050429
END:VEVENT
BEGIN:VEVENT
DTSTART;TZID=Europe/London:20250511T100000
DTEND;TZID=Europe/London:20250511T173000
DTSTAMP:20260422T112445
CREATED:20250418T162400Z
LAST-MODIFIED:20250418T162400Z
UID:21319-1746957600-1746984600@randnac.org
SUMMARY:Warwickshire AA Track & Field Championships
DESCRIPTION:Warwickshire County Championships\, all age groups including U11 & Masters. Qualification by birth or residence
URL:https://randnac.org/event/warwickshire-aa-track-field-championships-2/2025-05-11/
LOCATION:The Pingles Stadium\, Avenue Road\, Nuneaton\, Warkwickshire\, CV11 4LX\, United Kingdom
CATEGORIES:Fixtures
GEO:52.5136054;-1.4607353
X-APPLE-STRUCTURED-LOCATION;VALUE=URI;X-ADDRESS=The Pingles Stadium Avenue Road Nuneaton Warkwickshire CV11 4LX United Kingdom;X-APPLE-RADIUS=500;X-TITLE=Avenue Road:geo:-1.4607353,52.5136054
END:VEVENT
BEGIN:VEVENT
DTSTART;TZID=Europe/London:20250510T103000
DTEND;TZID=Europe/London:20250510T173000
DTSTAMP:20260422T112445
CREATED:20250418T163524Z
LAST-MODIFIED:20250418T163524Z
UID:21328-1746873000-1746898200@randnac.org
SUMMARY:Leicestershire & Rutland AA Track & Field Championships
DESCRIPTION:County Championship for all Age Groups inc U11 & Masters. Eligibility by birth or residence
URL:https://randnac.org/event/leicestershire-rutland-aa-track-field-championships/2025-05-10/
LOCATION:Rockingham Triangle\, Corby\, Northamptonshire\, NN17 2AE\, United Kingdom
CATEGORIES:Fixtures
GEO:52.506094;-0.7050429
END:VEVENT
BEGIN:VEVENT
DTSTART;TZID=Europe/London:20250510T103000
DTEND;TZID=Europe/London:20250510T173000
DTSTAMP:20260422T112445
CREATED:20250418T162822Z
LAST-MODIFIED:20250418T162822Z
UID:21321-1746873000-1746898200@randnac.org
SUMMARY:Northamptonshire AA Track & Field Championship
DESCRIPTION:County Championship for all age groups including U11 & Masters. Qualification by birth or residence
URL:https://randnac.org/event/northamptonshire-aa-track-field-championship/2025-05-10/
LOCATION:Rockingham Triangle\, Corby\, Northamptonshire\, NN17 2AE\, United Kingdom
CATEGORIES:Fixtures
GEO:52.506094;-0.7050429
END:VEVENT
BEGIN:VEVENT
DTSTART;TZID=Europe/London:20250510T101500
DTEND;TZID=Europe/London:20250510T111500
DTSTAMP:20260422T112445
CREATED:20250106T142149Z
LAST-MODIFIED:20250107T115903Z
UID:21026-1746872100-1746875700@randnac.org
SUMMARY:Ladies Back to Running Course
DESCRIPTION:Ladies ‘Back to Running’ Course starts Saturday 15th March from 1015 – 1115. Cost is £20 for the 9 week course gradually building to run 5k. This is ideal for Ladies who can comfortably run for 10 minutes. Also includes Monday & Wednesday evening Sessions. \nBeginners course 2025 flyer
URL:https://randnac.org/event/ladies-back-to-running-course-2/2025-05-10/
LOCATION:Rugby Athletic Track\, Bruce Wiliams Way\, Rugby\, Warwickshire\, CV22 5LJ\, United Kingdom
ORGANIZER;CN="Kay Shaw":MAILTO:ladiesrunninggroup@gmail.com
GEO:52.3677341;-1.2551566
X-APPLE-STRUCTURED-LOCATION;VALUE=URI;X-ADDRESS=Rugby Athletic Track Bruce Wiliams Way Rugby Warwickshire CV22 5LJ United Kingdom;X-APPLE-RADIUS=500;X-TITLE=Bruce Wiliams Way:geo:-1.2551566,52.3677341
END:VEVENT
BEGIN:VEVENT
DTSTART;TZID=Europe/London:20250510T101500
DTEND;TZID=Europe/London:20250510T111500
DTSTAMP:20260422T112445
CREATED:20250106T142000Z
LAST-MODIFIED:20250107T115944Z
UID:21001-1746872100-1746875700@randnac.org
SUMMARY:Ladies Beginners Course
DESCRIPTION:Our Popular Ladies Beginners Course will start on Saturday 8th February from 1015 – 1115. Cost is £30 for the 15 week course gradually building to run 5k. Also includes Monday & Wednesday evening Sessions. \nFull Details: Beginners course 2025 flyer
URL:https://randnac.org/event/ladies-beginners-course-2/2025-05-10/
LOCATION:Rugby Athletic Track\, Bruce Wiliams Way\, Rugby\, Warwickshire\, CV22 5LJ\, United Kingdom
CATEGORIES:Events,Fixtures
ORGANIZER;CN="Kay Shaw":MAILTO:ladiesrunninggroup@gmail.com
GEO:52.3677341;-1.2551566
X-APPLE-STRUCTURED-LOCATION;VALUE=URI;X-ADDRESS=Rugby Athletic Track Bruce Wiliams Way Rugby Warwickshire CV22 5LJ United Kingdom;X-APPLE-RADIUS=500;X-TITLE=Bruce Wiliams Way:geo:-1.2551566,52.3677341
END:VEVENT
BEGIN:VEVENT
DTSTART;TZID=Europe/London:20250510T100000
DTEND;TZID=Europe/London:20250510T173000
DTSTAMP:20260422T112445
CREATED:20250418T162400Z
LAST-MODIFIED:20250418T162400Z
UID:21318-1746871200-1746898200@randnac.org
SUMMARY:Warwickshire AA Track & Field Championships
DESCRIPTION:Warwickshire County Championships\, all age groups including U11 & Masters. Qualification by birth or residence
URL:https://randnac.org/event/warwickshire-aa-track-field-championships-2/2025-05-10/
LOCATION:The Pingles Stadium\, Avenue Road\, Nuneaton\, Warkwickshire\, CV11 4LX\, United Kingdom
CATEGORIES:Fixtures
GEO:52.5136054;-1.4607353
X-APPLE-STRUCTURED-LOCATION;VALUE=URI;X-ADDRESS=The Pingles Stadium Avenue Road Nuneaton Warkwickshire CV11 4LX United Kingdom;X-APPLE-RADIUS=500;X-TITLE=Avenue Road:geo:-1.4607353,52.5136054
END:VEVENT
BEGIN:VEVENT
DTSTART;TZID=Europe/London:20250506T194500
DTEND;TZID=Europe/London:20250506T210000
DTSTAMP:20260422T112445
CREATED:20250418T164312Z
LAST-MODIFIED:20250418T164312Z
UID:21331-1746560700-1746565200@randnac.org
SUMMARY:EMGP Silverstone 10km
DESCRIPTION:First race of the popular EMGP series
URL:https://randnac.org/event/emgp-silverstone-10km-2/
LOCATION:Silverstone Circuit\, Towcester\, Northamptonshire\, NN12 8TN\, United Kingdom
CATEGORIES:Fixtures
GEO:52.0770268;-1.026085
END:VEVENT
BEGIN:VEVENT
DTSTART;TZID=Europe/London:20250503T103000
DTEND;TZID=Europe/London:20250503T173000
DTSTAMP:20260422T112445
CREATED:20250418T161850Z
LAST-MODIFIED:20250418T161850Z
UID:21316-1746268200-1746293400@randnac.org
SUMMARY:YDL Lower\, Midland Premier Division - Round 1
DESCRIPTION:Our Premier competition for U13 & U15 athletes
URL:https://randnac.org/event/ydl-lower-midland-premier-division-round-1/
LOCATION:Rugby Athletic Track\, Bruce Wiliams Way\, Rugby\, Warwickshire\, CV22 5LJ\, United Kingdom
CATEGORIES:Events,Fixtures
ORGANIZER;CN="Kay Shaw":MAILTO:ladiesrunninggroup@gmail.com
GEO:52.3677341;-1.2551566
X-APPLE-STRUCTURED-LOCATION;VALUE=URI;X-ADDRESS=Rugby Athletic Track Bruce Wiliams Way Rugby Warwickshire CV22 5LJ United Kingdom;X-APPLE-RADIUS=500;X-TITLE=Bruce Wiliams Way:geo:-1.2551566,52.3677341
END:VEVENT
END:VCALENDAR